BEGIN:VCALENDAR
VERSION:2.0
PRODID:spatie/icalendar-generator
DESCRIPTION:Events from Πολιτιστικό Πάρκο
X-WR-CALDESC:Events from Πολιτιστικό Πάρκο
REFRESH-INTERVAL;VALUE=DURATION:PT1440M
X-PUBLISHED-TTL:PT1440M
BEGIN:VTIMEZONE
TZID:Etc/GMT-3
BEGIN:STANDARD
DTSTART:20230806T100000Z
TZOFFSETFROM:+0300
TZOFFSETTO:+0300
END:STANDARD
END:VTIMEZONE
BEGIN:VTIMEZONE
TZID:UTC
BEGIN:STANDARD
DTSTART:20250724T021148Z
TZOFFSETFROM:+0000
TZOFFSETTO:+0000
END:STANDARD
END:VTIMEZONE
BEGIN:VEVENT
UID:932-89
DTSTAMP:20260420T021148Z
SUMMARY:Ωράριο λειτουργίας (10:00 έως και 15:00)
LOCATION:Πολιτιστικό Πάρκο Κερατέας 2ο χλµ. Ν
 έας Λεωφ. Αθηνών - Σουνίου  (Ντάρδεζα)  Κερ
 ατέα 19001
ORGANIZER;CN=admin_politistiko:MAILTO:support@radicode.net
DTSTART;TZID=Etc/GMT-3:20240502T100000
DTEND;TZID=Etc/GMT-3:20240502T150000
X-ALT-DESC;FMTTYPE=TEXT/HTML:&amp;nbsp\; &amp;nbsp\;
CATEGORIES:Πάρκο Κερατέας
URL;VALUE=URI:https://www.politistikoparko.com/mc-events/%cf%89%cf%81%ce%ac
 %cf%81%ce%b9%ce%bf-%ce%bb%ce%b5%ce%b9%cf%84%ce%bf%cf%85%cf%81%ce%b3%ce%af%
 ce%b1%cf%82-1000-%ce%ad%cf%89%cf%82-%ce%ba%ce%b1%ce%b9-1500/
METHOD:PUBLISH
END:VEVENT
END:VCALENDAR