BEGIN:VCALENDAR
VERSION:2.0
PRODID:spatie/icalendar-generator
DESCRIPTION:Events from Πολιτιστικό Πάρκο
X-WR-CALDESC:Events from Πολιτιστικό Πάρκο
REFRESH-INTERVAL;VALUE=DURATION:PT1440M
X-PUBLISHED-TTL:PT1440M
BEGIN:VTIMEZONE
TZID:Etc/GMT-3
BEGIN:STANDARD
DTSTART:20230501T100000Z
TZOFFSETFROM:+0300
TZOFFSETTO:+0300
END:STANDARD
END:VTIMEZONE
BEGIN:VTIMEZONE
TZID:UTC
BEGIN:STANDARD
DTSTART:20250724T055903Z
TZOFFSETFROM:+0000
TZOFFSETTO:+0000
END:STANDARD
END:VTIMEZONE
BEGIN:VEVENT
UID:660-60
DTSTAMP:20260420T055903Z
SUMMARY:ΤΟ ΠΑΡΚΟ ΕΊΝΑΙ ΑΝΟΙΧΤΟ\,  ΧΩΡΙΣ ΒΙΩΜΑ
 ΤΙΚΑ ΠΡΟΓΡΆΜΜΑΤΑ ΜΕ ΑΠΛΗ ΠΕΡΙΗΓΗΣΗ
LOCATION:
ORGANIZER;CN=Stelios:MAILTO:steliosagalos@gmail.com
DTSTART;TZID=Etc/GMT-3:20240126T100000
DTEND;TZID=Etc/GMT-3:20240126T150000
X-ALT-DESC;FMTTYPE=TEXT/HTML:Το πάρκο είναι ανοιχτό\, χ
 ωρίς βιωματικά προγράμματα με απλή περι
 ήγηση. (Ώρα λειτουργίας 10.00 έως και 15.00)
CATEGORIES:Πάρκο Κερατέας
URL;VALUE=URI:https://www.politistikoparko.com/mc-events/%cf%84%ce%bf-%cf%8
 0%ce%b1%cf%81%ce%ba%ce%bf-%ce%b5%ce%af%ce%bd%ce%b1%ce%b9-%ce%b1%ce%bd%ce%b
 f%ce%b9%cf%87%cf%84%ce%bf-%cf%87%cf%89%cf%81%ce%b9%cf%83-%ce%b2%ce%b9%cf%8
 9%ce%bc%ce%b1%cf%84%ce%b9%ce%ba-3/
METHOD:PUBLISH
END:VEVENT
END:VCALENDAR