BEGIN:VCALENDAR
VERSION:2.0
PRODID:spatie/icalendar-generator
DESCRIPTION:Events from Πολιτιστικό Πάρκο
X-WR-CALDESC:Events from Πολιτιστικό Πάρκο
REFRESH-INTERVAL;VALUE=DURATION:PT1440M
X-PUBLISHED-TTL:PT1440M
BEGIN:VTIMEZONE
TZID:Etc/GMT-3
BEGIN:STANDARD
DTSTART:20250804T000000Z
TZOFFSETFROM:+0300
TZOFFSETTO:+0300
END:STANDARD
END:VTIMEZONE
BEGIN:VTIMEZONE
TZID:UTC
BEGIN:STANDARD
DTSTART:20250723T221126Z
TZOFFSETFROM:+0000
TZOFFSETTO:+0000
END:STANDARD
END:VTIMEZONE
BEGIN:VEVENT
UID:2560-397
DTSTAMP:20260419T221126Z
SUMMARY:ΦΕΣΤΙΒΑΛ ΤΗΣ ΑΝΟΙΞΗΣ - ΕΝΔΕΙΚΤΙΚΟ ΠΡ
 ΟΓΡΑΜΜΑ
LOCATION:
ORGANIZER;CN=Stelios:MAILTO:steliosagalos@gmail.com
DTSTART;TZID=Etc/GMT-3;VALUE=DATE:20260501
DTEND;TZID=Etc/GMT-3;VALUE=DATE:20260504
X-ALT-DESC;FMTTYPE=TEXT/HTML:
CATEGORIES:Πάρκο Κερατέας
URL;VALUE=URI:https://www.politistikoparko.com/mc-events/%cf%86%ce%b5%cf%83
 %cf%84%ce%b9%ce%b2%ce%b1%ce%bb-%cf%84%ce%b7%cf%83-%ce%b1%ce%bd%ce%bf%ce%b9
 %ce%be%ce%b7%cf%83-%ce%b5%ce%bd%ce%b4%ce%b5%ce%b9%ce%ba%cf%84%ce%b9%ce%ba%
 ce%bf-%cf%80%cf%81%ce%bf%ce%b3/
METHOD:PUBLISH
END:VEVENT
END:VCALENDAR