BEGIN:VCALENDAR
VERSION:2.0
PRODID:spatie/icalendar-generator
DESCRIPTION:Events from Πολιτιστικό Πάρκο
X-WR-CALDESC:Events from Πολιτιστικό Πάρκο
REFRESH-INTERVAL;VALUE=DURATION:PT1440M
X-PUBLISHED-TTL:PT1440M
BEGIN:VTIMEZONE
TZID:Etc/GMT-3
BEGIN:STANDARD
DTSTART:20250720T113000Z
TZOFFSETFROM:+0300
TZOFFSETTO:+0300
END:STANDARD
END:VTIMEZONE
BEGIN:VTIMEZONE
TZID:UTC
BEGIN:STANDARD
DTSTART:20250723T221121Z
TZOFFSETFROM:+0000
TZOFFSETTO:+0000
END:STANDARD
END:VTIMEZONE
BEGIN:VEVENT
UID:2548-6
DTSTAMP:20260419T221121Z
SUMMARY:11:30  Η ΜΙΚΡΗ ΜΑΣ ΦΑΡΜΑ
LOCATION:Πολιτιστικό Πάρκο Κερατέας 2ο χλµ. Ν
 έας Λεωφ. Αθηνών - Σουνίου  (Ντάρδεζα)  Κερ
 ατέα 19001
ORGANIZER;CN=admin_politistiko:MAILTO:support@radicode.net
DTSTART;TZID=Etc/GMT-3:20260416T113000
DTEND;TZID=Etc/GMT-3:20260416T115000
X-ALT-DESC;FMTTYPE=TEXT/HTML:11:30 - 11:50 Η ΜΙΚΡΗ ΜΑΣ ΦΑΡΜΑ 
 Κάνουμε βόλτα στην φάρμα του Πάρκου\, γνω
 ρίζουμε τα ζώα και τα ταΐζουμε.
CATEGORIES:Πάρκο Κερατέας
URL;VALUE=URI:https://www.politistikoparko.com/mc-events/1130-%ce%b7-%ce%bc
 %ce%b9%ce%ba%cf%81%ce%b7-%ce%bc%ce%b1%cf%83-%cf%86%ce%b1%cf%81%ce%bc%ce%b1
 /
METHOD:PUBLISH
END:VEVENT
END:VCALENDAR