BEGIN:VCALENDAR
VERSION:2.0
PRODID:spatie/icalendar-generator
DESCRIPTION:Events from Πολιτιστικό Πάρκο
X-WR-CALDESC:Events from Πολιτιστικό Πάρκο
REFRESH-INTERVAL;VALUE=DURATION:PT1440M
X-PUBLISHED-TTL:PT1440M
BEGIN:VTIMEZONE
TZID:Etc/GMT-3
BEGIN:STANDARD
DTSTART:20250812T131500Z
TZOFFSETFROM:+0300
TZOFFSETTO:+0300
END:STANDARD
END:VTIMEZONE
BEGIN:VTIMEZONE
TZID:UTC
BEGIN:STANDARD
DTSTART:20250724T234551Z
TZOFFSETFROM:+0000
TZOFFSETTO:+0000
END:STANDARD
END:VTIMEZONE
BEGIN:VEVENT
UID:2527-114
DTSTAMP:20260420T234551Z
SUMMARY:13:15 - 13:50 ΠΑΛΙΑ ΕΠΑΓΓΕΛΜΑΤΑ – Μια μαγι
 κή βουτιά στο χρόνο!
LOCATION:
ORGANIZER;CN=Stelios:MAILTO:steliosagalos@gmail.com
DTSTART;TZID=Etc/GMT-3:20260509T131500
DTEND;TZID=Etc/GMT-3:20260509T135000
X-ALT-DESC;FMTTYPE=TEXT/HTML:Ελάτε να δουλέψουμε μαζί 
 στο εργαστήρι του ξυλουργού\, της υφάντρ
 ας και του τσαγκάρη\, να επισκεφθούμε τον
  παραδοσιακό καφενέ του Κωνσταντή\, να στ
 ολιστούμε και να αρωματιστούμε στο ραφτ
 άδικο του Ζαχαρία και το μπαρμπέρικο του
  Θύμιου και να γνωρίσουμε τα πλανόδια επ
 αγγέλματα: του λούστρου\, του νερουλά\, το
 υ καρβουνιάρη\, του παγωτατζή\, του καστα
 νά\, του ακονιστή και πολλά άλλα!
CATEGORIES:Πάρκο Κερατέας
URL;VALUE=URI:https://www.politistikoparko.com/mc-events/1315-1350-%cf%80%c
 e%b1%ce%bb%ce%b9%ce%b1-%ce%b5%cf%80%ce%b1%ce%b3%ce%b3%ce%b5%ce%bb%ce%bc%ce
 %b1%cf%84%ce%b1-%ce%bc%ce%b9%ce%b1-%ce%bc%ce%b1%ce%b3%ce%b9%ce%ba%ce%ae-%c
 e%b2%ce%bf%cf%85/
METHOD:PUBLISH
END:VEVENT
END:VCALENDAR