BEGIN:VCALENDAR
VERSION:2.0
PRODID:spatie/icalendar-generator
DESCRIPTION:Events from Πολιτιστικό Πάρκο
X-WR-CALDESC:Events from Πολιτιστικό Πάρκο
REFRESH-INTERVAL;VALUE=DURATION:PT1440M
X-PUBLISHED-TTL:PT1440M
BEGIN:VTIMEZONE
TZID:Etc/GMT-3
BEGIN:STANDARD
DTSTART:20230830T113000Z
TZOFFSETFROM:+0300
TZOFFSETTO:+0300
END:STANDARD
END:VTIMEZONE
BEGIN:VTIMEZONE
TZID:UTC
BEGIN:STANDARD
DTSTART:20250726T001139Z
TZOFFSETFROM:+0000
TZOFFSETTO:+0000
END:STANDARD
END:VTIMEZONE
BEGIN:VEVENT
UID:990-4
DTSTAMP:20260422T001139Z
SUMMARY:11:30 - 12:15   ΟΙ ΦΙΛΟΙ ΜΑΣ ΤΑ ΒΟΤΑΝΑ - Βότα
 να\, Μυρωδιές και Γεύσεις!!
LOCATION:Πολιτιστικό Πάρκο Κερατέας 2ο χλµ. Ν
 έας Λεωφ. Αθηνών - Σουνίου  (Ντάρδεζα)  Κερ
 ατέα 19001
ORGANIZER;CN=admin_politistiko:MAILTO:support@radicode.net
DTSTART;TZID=Etc/GMT-3:20240526T113000
DTEND;TZID=Etc/GMT-3:20240526T121500
X-ALT-DESC;FMTTYPE=TEXT/HTML:&amp;nbsp\; ΟΙ ΦΙΛΟΙ ΜΑΣ ΤΑ ΒΟΤΑΝ
 Α - Βότανα\, Μυρωδιές και Γεύσεις!! Συγκομ
 ιδή και Ξήρανση με παραδοσιακές - φυσικέ
 ς μεθόδους Διατήρηση: Πόσοι τρόποι υπάρχ
 ουν αλήθεια\; Χρήση: Παίζουμε μαθαίνοντα
 ς στο Πάρκο Γνωρίζουμε τα βασικά βότανα 
 της ελληνικής γης μέσω των αισθήσεων και
  ανακαλύπτουμε τις θεραπευτικές τους ιδ
 ιότητες αλλά και τη χρήση τους στη γαστρ
 ονομία.
CATEGORIES:Πάρκο Κερατέας
URL;VALUE=URI:https://www.politistikoparko.com/mc-events/1130-1215-%ce%bf%c
 e%b9-%cf%86%ce%b9%ce%bb%ce%bf%ce%b9-%ce%bc%ce%b1%cf%83-%cf%84%ce%b1-%ce%b2
 %ce%bf%cf%84%ce%b1%ce%bd%ce%b1-%ce%b2%cf%8c%cf%84%ce%b1%ce%bd%ce%b1-%ce%bc
 %cf%85%cf%81%cf%89%ce%b4/
METHOD:PUBLISH
END:VEVENT
END:VCALENDAR