BEGIN:VCALENDAR
VERSION:2.0
PRODID:spatie/icalendar-generator
DESCRIPTION:Events from Πολιτιστικό Πάρκο
X-WR-CALDESC:Events from Πολιτιστικό Πάρκο
REFRESH-INTERVAL;VALUE=DURATION:PT1440M
X-PUBLISHED-TTL:PT1440M
BEGIN:VTIMEZONE
TZID:Etc/GMT-3
BEGIN:STANDARD
DTSTART:20230704T113000Z
TZOFFSETFROM:+0300
TZOFFSETTO:+0300
END:STANDARD
END:VTIMEZONE
BEGIN:VTIMEZONE
TZID:UTC
BEGIN:STANDARD
DTSTART:20250726T130115Z
TZOFFSETFROM:+0000
TZOFFSETTO:+0000
END:STANDARD
END:VTIMEZONE
BEGIN:VEVENT
UID:789-155
DTSTAMP:20260422T130115Z
SUMMARY:11:30 - 12:15 ΠΑΛΙΑ ΕΠΑΓΓΕΛΜΑΤΑ – Μια μαγι
 κή βουτιά στο χρόνο!
LOCATION:
ORGANIZER;CN=Stelios:MAILTO:steliosagalos@gmail.com
DTSTART;TZID=Etc/GMT-3:20240330T113000
DTEND;TZID=Etc/GMT-3:20240330T121500
X-ALT-DESC;FMTTYPE=TEXT/HTML:11:30 - 12:15 ΠΑΛΙΑ ΕΠΑΓΓΕΛΜΑΤ
 Α – Μια μαγική βουτιά στο χρόνο! Ελάτε να
  δουλέψουμε μαζί στο εργαστήρι του ξυλου
 ργού\, της υφάντρας και του τσαγκάρη\, να 
 επισκεφθούμε τον παραδοσιακό καφενέ του
  Κωνσταντή\, να στολιστούμε και να αρωματ
 ιστούμε στο ραφτάδικο του Ζαχαρία και το
  μπαρμπέρικο του Θύμιου και να γνωρίσουμ
 ε τα πλανόδια επαγγέλματα: του λούστρου\,
  του νερουλά\,&amp;hellip\;
CATEGORIES:Πάρκο Κερατέας
URL;VALUE=URI:https://www.politistikoparko.com/mc-events/1130-1215-%cf%80%c
 e%b1%ce%bb%ce%b9%ce%b1-%ce%b5%cf%80%ce%b1%ce%b3%ce%b3%ce%b5%ce%bb%ce%bc%ce
 %b1%cf%84%ce%b1-%ce%bc%ce%b9%ce%b1-%ce%bc%ce%b1%ce%b3%ce%b9%ce%ba%ce%ae-%c
 e%b2%ce%bf%cf%85-2/
METHOD:PUBLISH
END:VEVENT
END:VCALENDAR