BEGIN:VCALENDAR
VERSION:2.0
PRODID:spatie/icalendar-generator
DESCRIPTION:Events from Πολιτιστικό Πάρκο
X-WR-CALDESC:Events from Πολιτιστικό Πάρκο
REFRESH-INTERVAL;VALUE=DURATION:PT1440M
X-PUBLISHED-TTL:PT1440M
BEGIN:VTIMEZONE
TZID:Etc/GMT-3
BEGIN:STANDARD
DTSTART:20230621T113000Z
TZOFFSETFROM:+0300
TZOFFSETTO:+0300
END:STANDARD
END:VTIMEZONE
BEGIN:VTIMEZONE
TZID:UTC
BEGIN:STANDARD
DTSTART:20250724T060136Z
TZOFFSETFROM:+0000
TZOFFSETTO:+0000
END:STANDARD
END:VTIMEZONE
BEGIN:VEVENT
UID:772-160
DTSTAMP:20260420T060136Z
SUMMARY:ΑΠΟΚΡΙΕΣ ΣΑΝ ΜΙΑ ΦΟΡΑ! – Να το γαϊταν
 άκι μας\, αγόρια και κοπέλες
LOCATION:
ORGANIZER;CN=Stelios:MAILTO:steliosagalos@gmail.com
DTSTART;TZID=Etc/GMT-3:20240317T113000
DTEND;TZID=Etc/GMT-3:20240317T121500
X-ALT-DESC;FMTTYPE=TEXT/HTML:ΑΠΟΚΡΙΕΣ ΣΑΝ ΜΙΑ ΦΟΡΑ! – 
 Να το γαϊτανάκι μας\, αγόρια και κοπέλες 
 Φοράμε την αποκριάτικη στολή μας\, ¨ξυπν
 άμε τη φύση¨\, ταξιδεύουμε στη Νάξο αναβι
 ώνουμε τους Κορδελάτους και στήνουμε χο
 ρό γύρω από το γαϊτανάκι. Θα πλέξουμε όλο
 ι μαζί τις πολύχρωμες κορδέλες και θα τρ
 αγουδήσουμε παραδοσιακά τραγούδια. Ένα 
 έθιμο με ιδιαίτερους συμβολισμούς για τ
 ην αγάπη\, την αποδοχή&amp;hellip\;
CATEGORIES:Πάρκο Κερατέας
URL;VALUE=URI:https://www.politistikoparko.com/mc-events/%ce%b1%cf%80%ce%bf
 %ce%ba%cf%81%ce%b9%ce%b5%cf%83-%cf%83%ce%b1%ce%bd-%ce%bc%ce%b9%ce%b1-%cf%8
 6%ce%bf%cf%81%ce%b1-%ce%bd%ce%b1-%cf%84%ce%bf-%ce%b3%ce%b1%cf%8a%cf%84%ce%
 b1%ce%bd%ce%ac%ce%ba/
METHOD:PUBLISH
END:VEVENT
END:VCALENDAR