BEGIN:VCALENDAR
VERSION:2.0
PRODID:spatie/icalendar-generator
DESCRIPTION:Events from Πολιτιστικό Πάρκο
X-WR-CALDESC:Events from Πολιτιστικό Πάρκο
REFRESH-INTERVAL;VALUE=DURATION:PT1440M
X-PUBLISHED-TTL:PT1440M
BEGIN:VTIMEZONE
TZID:Etc/GMT-3
BEGIN:STANDARD
DTSTART:20230622T130000Z
TZOFFSETFROM:+0300
TZOFFSETTO:+0300
END:STANDARD
END:VTIMEZONE
BEGIN:VTIMEZONE
TZID:UTC
BEGIN:STANDARD
DTSTART:20250724T015846Z
TZOFFSETFROM:+0000
TZOFFSETTO:+0000
END:STANDARD
END:VTIMEZONE
BEGIN:VEVENT
UID:768-157
DTSTAMP:20260420T015846Z
SUMMARY:Θεματικό Magic Show \"Be Creative - Be Fun\"
LOCATION:
ORGANIZER;CN=Stelios:MAILTO:steliosagalos@gmail.com
DTSTART;TZID=Etc/GMT-3:20240318T130000
DTEND;TZID=Etc/GMT-3:20240318T140000
X-ALT-DESC;FMTTYPE=TEXT/HTML:Θεματικό Magic Show \"Be Creative - Be
  Fun\"  
CATEGORIES:Πάρκο Κερατέας
URL;VALUE=URI:https://www.politistikoparko.com/mc-events/%ce%b8%ce%b5%ce%bc
 %ce%b1%cf%84%ce%b9%ce%ba%cf%8c-magic-show-be-creative-be-fun/
METHOD:PUBLISH
END:VEVENT
END:VCALENDAR