BEGIN:VCALENDAR
VERSION:2.0
PRODID:spatie/icalendar-generator
DESCRIPTION:Events from Πολιτιστικό Πάρκο
X-WR-CALDESC:Events from Πολιτιστικό Πάρκο
REFRESH-INTERVAL;VALUE=DURATION:PT1440M
X-PUBLISHED-TTL:PT1440M
BEGIN:VTIMEZONE
TZID:Etc/GMT-3
BEGIN:STANDARD
DTSTART:20230221T130000Z
TZOFFSETFROM:+0300
TZOFFSETTO:+0300
END:STANDARD
END:VTIMEZONE
BEGIN:VTIMEZONE
TZID:UTC
BEGIN:STANDARD
DTSTART:20250724T040631Z
TZOFFSETFROM:+0000
TZOFFSETTO:+0000
END:STANDARD
END:VTIMEZONE
BEGIN:VEVENT
UID:510-115
DTSTAMP:20260420T040631Z
SUMMARY:13:00 - 13:50 ΕΛΙΑ – Στου λιοτριβιού τις μ
 υρωδιές!
LOCATION:
ORGANIZER;CN=Stelios:MAILTO:steliosagalos@gmail.com
DTSTART;TZID=Etc/GMT-3:20231118T130000
DTEND;TZID=Etc/GMT-3:20231118T135000
X-ALT-DESC;FMTTYPE=TEXT/HTML:Επίσκεψη με Ελαιόπανα\, Ρ
 αβδιά και Χτένια στον Ελαιώνα του Πάρκου
  και αφού μάθουν τα παιδιά για την ωφελιμ
 ότητα\, την καλλιέργεια και τη συγκομιδή 
 του καρπού\, παίρνουν τα γεμάτα με ελιές 
 καλάθια και οδηγούνται σε ένα από τα Παρ
 αδοσιακά Ελαιοτριβεία. Εκεί τα παιδιά ζ
 ωντανεύουν το λιοτρίβι\, τον κόθρο\, τα 
 μουτάφια\, τις σέσουλες\, τις σπάτουλες
  και το πιεστήριο και έτσι σαν μια καλο
 κουρδισμένη ορχήστρα συνεργάζονται για
  να βγάλουν το πολύτιμο&amp;hellip\;
CATEGORIES:Πάρκο Κερατέας
URL;VALUE=URI:https://www.politistikoparko.com/mc-events/1300-1350-%ce%b5%c
 e%bb%ce%b9%ce%b1-%cf%83%cf%84%ce%bf%cf%85-%ce%bb%ce%b9%ce%bf%cf%84%cf%81%c
 e%b9%ce%b2%ce%b9%ce%bf%cf%8d-%cf%84%ce%b9%cf%82-%ce%bc%cf%85%cf%81%cf%89%c
 e%b4%ce%b9%ce%ad/
METHOD:PUBLISH
END:VEVENT
END:VCALENDAR