BEGIN:VCALENDAR
VERSION:2.0
PRODID:spatie/icalendar-generator
DESCRIPTION:Events from Πολιτιστικό Πάρκο
X-WR-CALDESC:Events from Πολιτιστικό Πάρκο
REFRESH-INTERVAL;VALUE=DURATION:PT1440M
X-PUBLISHED-TTL:PT1440M
BEGIN:VTIMEZONE
TZID:Etc/GMT-3
BEGIN:STANDARD
DTSTART:20220809T134500Z
TZOFFSETFROM:+0300
TZOFFSETTO:+0300
END:STANDARD
END:VTIMEZONE
BEGIN:VTIMEZONE
TZID:UTC
BEGIN:STANDARD
DTSTART:20250724T000317Z
TZOFFSETFROM:+0000
TZOFFSETTO:+0000
END:STANDARD
END:VTIMEZONE
BEGIN:VEVENT
UID:3-2
DTSTAMP:20260420T000317Z
SUMMARY:Παλαιοντολόγοι εν δράσει
LOCATION:Πολιτιστικό Πάρκο Κερατέας 2ο χλµ. Ν
 έας Λεωφ. Αθηνών - Σουνίου  (Ντάρδεζα)  Κερ
 ατέα 19001
ORGANIZER;CN=admin_politistiko:MAILTO:support@radicode.net
DTSTART;TZID=Etc/GMT-3:20230506T134500
DTEND;TZID=Etc/GMT-3:20230506T141000
X-ALT-DESC;FMTTYPE=TEXT/HTML:&amp;nbsp\; Παλαιοντολόγοι εν δρ
 άσει Γινόμαστε μικροί παλαιοντολόγοι\, π
 αίρνουμε τα πινέλα μας και ανακαλύπτουμ
 ε απολιθώματα Δεινοσαύρων στο χώρο ανασ
 καφής.
CATEGORIES:Πάρκο Κερατέας
URL;VALUE=URI:https://www.politistikoparko.com/mc-events/%cf%80%ce%b1%ce%bb
 %ce%b1%ce%b9%ce%bf%ce%bd%cf%84%ce%bf%ce%bb%cf%8c%ce%b3%ce%bf%ce%b9-%ce%b5%
 ce%bd-%ce%b4%cf%81%ce%ac%cf%83%ce%b5%ce%b9-2/
METHOD:PUBLISH
END:VEVENT
END:VCALENDAR