BEGIN:VCALENDAR
VERSION:2.0
PRODID:spatie/icalendar-generator
DESCRIPTION:Events from Πολιτιστικό Πάρκο
X-WR-CALDESC:Events from Πολιτιστικό Πάρκο
REFRESH-INTERVAL;VALUE=DURATION:PT1440M
X-PUBLISHED-TTL:PT1440M
BEGIN:VTIMEZONE
TZID:Etc/GMT-3
BEGIN:STANDARD
DTSTART:20221130T130000Z
TZOFFSETFROM:+0300
TZOFFSETTO:+0300
END:STANDARD
END:VTIMEZONE
BEGIN:VTIMEZONE
TZID:UTC
BEGIN:STANDARD
DTSTART:20250724T060336Z
TZOFFSETFROM:+0000
TZOFFSETTO:+0000
END:STANDARD
END:VTIMEZONE
BEGIN:VEVENT
UID:275-79
DTSTAMP:20260420T060336Z
SUMMARY:13:15 - 14:00 ΤΡΥΓΟΠΑΤΙ !!
LOCATION:Πολιτιστικό Πάρκο Κερατέας 2ο χλµ. Ν
 έας Λεωφ. Αθηνών - Σουνίου  (Ντάρδεζα)  Κερ
 ατέα 19001
ORGANIZER;CN=admin_politistiko:MAILTO:support@radicode.net
DTSTART;TZID=Etc/GMT-3:20230827T130000
DTEND;TZID=Etc/GMT-3:20230827T134000
X-ALT-DESC;FMTTYPE=TEXT/HTML:ΤΡΥΓΟΠΑΤΙ Τρύγος των στα
 φυλιών από τους αμπελώνες του Πάρκου και
  πάτημα της σοδειάς στα παραδοσιακά πέτρ
 ινα πατητήρια!! Έπειτα περνάμε κι από την
  Στροφιλιά όπου βγάζουμε και τον τελευτα
 ίο χυμό από τα σταφύλια … Τα βαρέλια μας 
 περιμένουν πως πώς να γεμίσουν με φρέσκο
  μούστο. Μαθαίνουμε για την εμφιάλωση με 
 σύγχρονο και παραδοσιακό τρόπο.
CATEGORIES:Πάρκο Κερατέας
URL;VALUE=URI:https://www.politistikoparko.com/mc-events/1315-1400-%cf%84%c
 f%81%cf%85%ce%b3%ce%bf%cf%80%ce%b1%cf%84%ce%b9/
METHOD:PUBLISH
END:VEVENT
END:VCALENDAR