BEGIN:VCALENDAR
VERSION:2.0
PRODID:spatie/icalendar-generator
DESCRIPTION:Events from Πολιτιστικό Πάρκο
X-WR-CALDESC:Events from Πολιτιστικό Πάρκο
REFRESH-INTERVAL;VALUE=DURATION:PT1440M
X-PUBLISHED-TTL:PT1440M
BEGIN:VTIMEZONE
TZID:Etc/GMT-3
BEGIN:STANDARD
DTSTART:20250804T233000Z
TZOFFSETFROM:+0300
TZOFFSETTO:+0300
END:STANDARD
END:VTIMEZONE
BEGIN:VTIMEZONE
TZID:UTC
BEGIN:STANDARD
DTSTART:20250724T001807Z
TZOFFSETFROM:+0000
TZOFFSETTO:+0000
END:STANDARD
END:VTIMEZONE
BEGIN:VEVENT
UID:2589-400
DTSTAMP:20260420T001807Z
SUMMARY:Καλωσορίζοντας τον Μάη με ένα στεφάν
 ι
LOCATION:
ORGANIZER;CN=Stelios:MAILTO:steliosagalos@gmail.com
DTSTART;TZID=Etc/GMT-3:20260501T233000
DTEND;TZID=Etc/GMT-3:20260502T133000
X-ALT-DESC;FMTTYPE=TEXT/HTML:Φτιάχνουμε το δικό μας στ
 εφάνι με λουλουδια  και διάφορα υλικά αφ
 ήνοντας  την φαντασία μας για πολλές ανο
 ιξιάτικεσ δημιουργίεσ. Το μαγιάτικο στε
 φάνι είναι το μοναδικό εθιμο αυτής τησ η
 μέρας  που εχει μείνει και τηρείται ακόμ
 α και σημερα. Πρόκειται για ενα πανάρχαι
 ο έθιμο\, που τηρείται πιστάσε κάθε μεριά
  της χώρας. Κάθε τετοια ημέρα  ενα λουλου
 δενιο στεφάνι στολίζει&amp;hellip\;
CATEGORIES:Πάρκο Κερατέας
URL;VALUE=URI:https://www.politistikoparko.com/mc-events/%ce%ba%ce%b1%ce%bb
 %cf%89%cf%83%ce%bf%cf%81%ce%af%ce%b6%ce%bf%ce%bd%cf%84%ce%b1%cf%82-%cf%84%
 ce%bf%ce%bd-%ce%bc%ce%ac%ce%b7-%ce%bc%ce%b5-%ce%ad%ce%bd%ce%b1-%cf%83%cf%8
 4%ce%b5%cf%86%ce%ac%ce%bd%ce%b9/
METHOD:PUBLISH
END:VEVENT
END:VCALENDAR