BEGIN:VCALENDAR
VERSION:2.0
PRODID:spatie/icalendar-generator
DESCRIPTION:Events from Πολιτιστικό Πάρκο
X-WR-CALDESC:Events from Πολιτιστικό Πάρκο
REFRESH-INTERVAL;VALUE=DURATION:PT1440M
X-PUBLISHED-TTL:PT1440M
BEGIN:VTIMEZONE
TZID:Etc/GMT-3
BEGIN:STANDARD
DTSTART:20250806T131500Z
TZOFFSETFROM:+0300
TZOFFSETTO:+0300
END:STANDARD
END:VTIMEZONE
BEGIN:VTIMEZONE
TZID:UTC
BEGIN:STANDARD
DTSTART:20250724T000604Z
TZOFFSETFROM:+0000
TZOFFSETTO:+0000
END:STANDARD
END:VTIMEZONE
BEGIN:VEVENT
UID:2587-398
DTSTAMP:20260420T000604Z
SUMMARY:BUBBLE SHOW
LOCATION:
ORGANIZER;CN=Stelios:MAILTO:steliosagalos@gmail.com
DTSTART;TZID=Etc/GMT-3:20260503T131500
DTEND;TZID=Etc/GMT-3:20260503T140000
X-ALT-DESC;FMTTYPE=TEXT/HTML:
CATEGORIES:Πάρκο Κερατέας
URL;VALUE=URI:https://www.politistikoparko.com/mc-events/bubble-show/
METHOD:PUBLISH
END:VEVENT
END:VCALENDAR