BEGIN:VCALENDAR
VERSION:2.0
PRODID:spatie/icalendar-generator
DESCRIPTION:Events from Πολιτιστικό Πάρκο
X-WR-CALDESC:Events from Πολιτιστικό Πάρκο
REFRESH-INTERVAL;VALUE=DURATION:PT1440M
X-PUBLISHED-TTL:PT1440M
BEGIN:VTIMEZONE
TZID:Etc/GMT-3
BEGIN:STANDARD
DTSTART:20250806T141500Z
TZOFFSETFROM:+0300
TZOFFSETTO:+0300
END:STANDARD
END:VTIMEZONE
BEGIN:VTIMEZONE
TZID:UTC
BEGIN:STANDARD
DTSTART:20250724T020018Z
TZOFFSETFROM:+0000
TZOFFSETTO:+0000
END:STANDARD
END:VTIMEZONE
BEGIN:VEVENT
UID:2579-9
DTSTAMP:20260420T020018Z
SUMMARY:ΟΙ ΦΙΛΟΙ ΜΑΣ ΤΑ ΒΟΤΑΝΑ - Βότανα\, Μυρω
 διές και Γεύσεις!!
LOCATION:Πολιτιστικό Πάρκο Κερατέας 2ο χλµ. Ν
 έας Λεωφ. Αθηνών - Σουνίου  (Ντάρδεζα)  Κερ
 ατέα 19001
ORGANIZER;CN=admin_politistiko:MAILTO:support@radicode.net
DTSTART;TZID=Etc/GMT-3:20260503T141500
DTEND;TZID=Etc/GMT-3:20260503T151500
X-ALT-DESC;FMTTYPE=TEXT/HTML:ΟΙ ΦΙΛΟΙ ΜΑΣ ΤΑ ΒΟΤΑΝΑ - Β
 ότανα\, Μυρωδιές και Γεύσεις!! Συγκομιδή 
 και Ξήρανση με παραδοσιακές - φυσικές με
 θόδους Διατήρηση: Πόσοι τρόποι υπάρχουν 
 αλήθεια\; Χρήση: Παίζουμε μαθαίνοντας στ
 ο Πάρκο Γνωρίζουμε τα βασικά βότανα της 
 ελληνικής γης μέσω των αισθήσεων και ανα
 καλύπτουμε τις θεραπευτικές τους ιδιότη
 τες αλλά και τη χρήση τους στη γαστρονομ
 ία.
CATEGORIES:Πάρκο Κερατέας
URL;VALUE=URI:https://www.politistikoparko.com/mc-events/%ce%bf%ce%b9-%cf%8
 6%ce%b9%ce%bb%ce%bf%ce%b9-%ce%bc%ce%b1%cf%83-%cf%84%ce%b1-%ce%b2%ce%bf%cf%
 84%ce%b1%ce%bd%ce%b1-%ce%b2%cf%8c%cf%84%ce%b1%ce%bd%ce%b1-%ce%bc%cf%85%cf%
 81%cf%89%ce%b4%ce%b9%ce%ad-2/
METHOD:PUBLISH
END:VEVENT
END:VCALENDAR