BEGIN:VCALENDAR
VERSION:2.0
PRODID:spatie/icalendar-generator
DESCRIPTION:Events from Πολιτιστικό Πάρκο
X-WR-CALDESC:Events from Πολιτιστικό Πάρκο
REFRESH-INTERVAL;VALUE=DURATION:PT1440M
X-PUBLISHED-TTL:PT1440M
BEGIN:VTIMEZONE
TZID:Etc/GMT-3
BEGIN:STANDARD
DTSTART:20250805T120000Z
TZOFFSETFROM:+0300
TZOFFSETTO:+0300
END:STANDARD
END:VTIMEZONE
BEGIN:VTIMEZONE
TZID:UTC
BEGIN:STANDARD
DTSTART:20250724T054722Z
TZOFFSETFROM:+0000
TZOFFSETTO:+0000
END:STANDARD
END:VTIMEZONE
BEGIN:VEVENT
UID:2575-305
DTSTAMP:20260420T054722Z
SUMMARY:12:00 - 14:00 ΖΩΓΡΑΦΙΚΗ ΠΡΟΣΩΠΟΥ
LOCATION:
ORGANIZER;CN=Stelios:MAILTO:steliosagalos@gmail.com
DTSTART;TZID=Etc/GMT-3:20260502T120000
DTEND;TZID=Etc/GMT-3:20260502T140000
X-ALT-DESC;FMTTYPE=TEXT/HTML:
CATEGORIES:Πάρκο Κερατέας
URL;VALUE=URI:https://www.politistikoparko.com/mc-events/1200-1400-%ce%b6%c
 f%89%ce%b3%cf%81%ce%b1%cf%86%ce%b9%ce%ba%ce%b7-%cf%80%cf%81%ce%bf%cf%83%cf
 %89%cf%80%ce%bf%cf%85/
METHOD:PUBLISH
END:VEVENT
END:VCALENDAR