BEGIN:VCALENDAR
VERSION:2.0
PRODID:spatie/icalendar-generator
DESCRIPTION:Events from Πολιτιστικό Πάρκο
X-WR-CALDESC:Events from Πολιτιστικό Πάρκο
REFRESH-INTERVAL;VALUE=DURATION:PT1440M
X-PUBLISHED-TTL:PT1440M
BEGIN:VTIMEZONE
TZID:Etc/GMT-3
BEGIN:STANDARD
DTSTART:20250804T110000Z
TZOFFSETFROM:+0300
TZOFFSETTO:+0300
END:STANDARD
END:VTIMEZONE
BEGIN:VTIMEZONE
TZID:UTC
BEGIN:STANDARD
DTSTART:20250724T020152Z
TZOFFSETFROM:+0000
TZOFFSETTO:+0000
END:STANDARD
END:VTIMEZONE
BEGIN:VEVENT
UID:2561-165
DTSTAMP:20260420T020152Z
SUMMARY:11:00 Η ΜΙΚΡΗ ΜΑΣ ΦΑΡΜΑ
LOCATION:Πολιτιστικό Πάρκο Κερατέας 2ο χλµ. Ν
 έας Λεωφ. Αθηνών - Σουνίου  (Ντάρδεζα)  Κερ
 ατέα 19001
ORGANIZER;CN=admin_politistiko:MAILTO:support@radicode.net
DTSTART;TZID=Etc/GMT-3:20260501T110000
DTEND;TZID=Etc/GMT-3:20260501T112000
X-ALT-DESC;FMTTYPE=TEXT/HTML:Η ΜΙΚΡΗ ΜΑΣ ΦΑΡΜΑ Κάνουμε
  βόλτα στην φάρμα του Πάρκου\, γνωρίζουμε
  τα ζώα και τα ταΐζουμε.
CATEGORIES:Πάρκο Κερατέας
URL;VALUE=URI:https://www.politistikoparko.com/mc-events/1100-%ce%b7-%ce%bc
 %ce%b9%ce%ba%cf%81%ce%b7-%ce%bc%ce%b1%cf%83-%cf%86%ce%b1%cf%81%ce%bc%ce%b1
 /
METHOD:PUBLISH
END:VEVENT
END:VCALENDAR