BEGIN:VCALENDAR
VERSION:2.0
PRODID:spatie/icalendar-generator
DESCRIPTION:Events from Πολιτιστικό Πάρκο
X-WR-CALDESC:Events from Πολιτιστικό Πάρκο
REFRESH-INTERVAL;VALUE=DURATION:PT1440M
X-PUBLISHED-TTL:PT1440M
BEGIN:VTIMEZONE
TZID:Etc/GMT-3
BEGIN:STANDARD
DTSTART:20250801T000000Z
TZOFFSETFROM:+0300
TZOFFSETTO:+0300
END:STANDARD
END:VTIMEZONE
BEGIN:VTIMEZONE
TZID:UTC
BEGIN:STANDARD
DTSTART:20250724T000605Z
TZOFFSETFROM:+0000
TZOFFSETTO:+0000
END:STANDARD
END:VTIMEZONE
BEGIN:VEVENT
UID:2537-393
DTSTAMP:20260420T000605Z
SUMMARY:ΤΟ ΠΑΡΚΟ ΕΙΝΑΙ ΚΛΕΙΣΤΟ
LOCATION:Πολιτιστικό Πάρκο Κερατέας 2ο χλµ. Ν
 έας Λεωφ. Αθηνών - Σουνίου  (Ντάρδεζα)  Κερ
 ατέα 19001
ORGANIZER;CN=admin_politistiko:MAILTO:support@radicode.net
DTSTART;TZID=Etc/GMT-3;VALUE=DATE:20260428
DTEND;TZID=Etc/GMT-3;VALUE=DATE:20260429
X-ALT-DESC;FMTTYPE=TEXT/HTML:
CATEGORIES:Πάρκο Κερατέας
URL;VALUE=URI:https://www.politistikoparko.com/mc-events/%cf%84%ce%bf-%cf%8
 0%ce%b1%cf%81%ce%ba%ce%bf-%ce%b5%ce%b9%ce%bd%ce%b1%ce%b9-%ce%ba%ce%bb%ce%b
 5%ce%b9%cf%83%cf%84%ce%bf-289/
METHOD:PUBLISH
END:VEVENT
END:VCALENDAR