BEGIN:VCALENDAR
VERSION:2.0
PRODID:spatie/icalendar-generator
DESCRIPTION:Events from Πολιτιστικό Πάρκο
X-WR-CALDESC:Events from Πολιτιστικό Πάρκο
REFRESH-INTERVAL;VALUE=DURATION:PT1440M
X-PUBLISHED-TTL:PT1440M
BEGIN:VTIMEZONE
TZID:Etc/GMT-3
BEGIN:STANDARD
DTSTART:20221019T130000Z
TZOFFSETFROM:+0300
TZOFFSETTO:+0300
END:STANDARD
END:VTIMEZONE
BEGIN:VTIMEZONE
TZID:UTC
BEGIN:STANDARD
DTSTART:20250724T035705Z
TZOFFSETFROM:+0000
TZOFFSETTO:+0000
END:STANDARD
END:VTIMEZONE
BEGIN:VEVENT
UID:241-33
DTSTAMP:20260420T035705Z
SUMMARY:13:15 ΈΛΑ ΝΑ ΠΑΊΞΟΥMΕ ΟΠΩΣ ΤΟΤΕ – Παιχν
 ίδια μιας άλλης εποχής!!
LOCATION:Πολιτιστικό Πάρκο Κερατέας 2ο χλµ. Ν
 έας Λεωφ. Αθηνών - Σουνίου  (Ντάρδεζα)  Κερ
 ατέα 19001
ORGANIZER;CN=admin_politistiko:MAILTO:support@radicode.net
DTSTART;TZID=Etc/GMT-3:20230716T130000
DTEND;TZID=Etc/GMT-3:20230716T134000
X-ALT-DESC;FMTTYPE=TEXT/HTML:ΈΛΑ ΝΑ ΠΑΊΞΟΥMΕ ΟΠΩΣ ΤΟΤΕ 
 – Παιχνίδια μιας άλλης εποχής!!   Παίζου
 με  παρέα στο μικρό λαογραφικό χωριό μας
 : Κότσια\, Αλάτι χοντρό αλάτι ψιλό\, Ρολόι\
 , Βόλους\, Κουτσό\, Τηλέφωνο\, Περπατώ εις 
 το δάσος… \, Σβούρες\, Τριοδίν\, Διελκυστί
 νδα κ.α. Παίζουμε όλοι μαζί ατομικά και ο
 μαδικά παιχνίδια που θα επιστρατεύσουν 
 το ομαδικό και συναγωνιστικό μας πνεύμα 
 και θα μας&amp;hellip\;
CATEGORIES:Πάρκο Κερατέας
URL;VALUE=URI:https://www.politistikoparko.com/mc-events/1315-%ce%ad%ce%bb%
 ce%b1-%ce%bd%ce%b1-%cf%80%ce%b1%ce%af%ce%be%ce%bf%cf%85m%ce%b5-%ce%bf%cf%8
 0%cf%89%cf%83-%cf%84%ce%bf%cf%84%ce%b5-%cf%80%ce%b1%ce%b9%cf%87%ce%bd%ce%a
 f%ce%b4%ce%b9%ce%b1/
METHOD:PUBLISH
END:VEVENT
END:VCALENDAR