BEGIN:VCALENDAR
VERSION:2.0
PRODID:spatie/icalendar-generator
DESCRIPTION:Events from Πολιτιστικό Πάρκο
X-WR-CALDESC:Events from Πολιτιστικό Πάρκο
REFRESH-INTERVAL;VALUE=DURATION:PT1440M
X-PUBLISHED-TTL:PT1440M
BEGIN:VTIMEZONE
TZID:Etc/GMT-3
BEGIN:STANDARD
DTSTART:20240806T000000Z
TZOFFSETFROM:+0300
TZOFFSETTO:+0300
END:STANDARD
END:VTIMEZONE
BEGIN:VTIMEZONE
TZID:UTC
BEGIN:STANDARD
DTSTART:20250726T124732Z
TZOFFSETFROM:+0000
TZOFFSETTO:+0000
END:STANDARD
END:VTIMEZONE
BEGIN:VEVENT
UID:1825-308
DTSTAMP:20260422T124732Z
SUMMARY:ΩΡΑΡΙΟ ΤΟΥ ΠΑΡΚΟΥ
LOCATION:
ORGANIZER;CN=Stelios:MAILTO:steliosagalos@gmail.com
DTSTART;TZID=Etc/GMT-3;VALUE=DATE:20250503
DTEND;TZID=Etc/GMT-3;VALUE=DATE:20250504
X-ALT-DESC;FMTTYPE=TEXT/HTML:
CATEGORIES:Πάρκο Κερατέας
URL;VALUE=URI:https://www.politistikoparko.com/mc-events/%cf%89%cf%81%ce%b1
 %cf%81%ce%b9%ce%bf-%cf%84%ce%bf%cf%85-%cf%80%ce%b1%cf%81%ce%ba%ce%bf%cf%85
 -3/
METHOD:PUBLISH
END:VEVENT
END:VCALENDAR