BEGIN:VCALENDAR
VERSION:2.0
PRODID:spatie/icalendar-generator
DESCRIPTION:Events from Πολιτιστικό Πάρκο
X-WR-CALDESC:Events from Πολιτιστικό Πάρκο
REFRESH-INTERVAL;VALUE=DURATION:PT1440M
X-PUBLISHED-TTL:PT1440M
BEGIN:VTIMEZONE
TZID:Etc/GMT-3
BEGIN:STANDARD
DTSTART:20240804T000000Z
TZOFFSETFROM:+0300
TZOFFSETTO:+0300
END:STANDARD
END:VTIMEZONE
BEGIN:VTIMEZONE
TZID:UTC
BEGIN:STANDARD
DTSTART:20250724T080120Z
TZOFFSETFROM:+0000
TZOFFSETTO:+0000
END:STANDARD
END:VTIMEZONE
BEGIN:VEVENT
UID:1823-310
DTSTAMP:20260420T080120Z
SUMMARY:ΩΡΑΡΙΟ ΤΟΥ ΠΑΡΚΟΥ
LOCATION:
ORGANIZER;CN=Stelios:MAILTO:steliosagalos@gmail.com
DTSTART;TZID=Etc/GMT-3;VALUE=DATE:20250501
DTEND;TZID=Etc/GMT-3;VALUE=DATE:20250502
X-ALT-DESC;FMTTYPE=TEXT/HTML:
CATEGORIES:Πάρκο Κερατέας
URL;VALUE=URI:https://www.politistikoparko.com/mc-events/%cf%89%cf%81%ce%b1
 %cf%81%ce%b9%ce%bf-%cf%84%ce%bf%cf%85-%cf%80%ce%b1%cf%81%ce%ba%ce%bf%cf%85
 -2/
METHOD:PUBLISH
END:VEVENT
END:VCALENDAR