BEGIN:VCALENDAR
VERSION:2.0
PRODID:spatie/icalendar-generator
DESCRIPTION:Events from Πολιτιστικό Πάρκο
X-WR-CALDESC:Events from Πολιτιστικό Πάρκο
REFRESH-INTERVAL;VALUE=DURATION:PT1440M
X-PUBLISHED-TTL:PT1440M
BEGIN:VTIMEZONE
TZID:Etc/GMT-3
BEGIN:STANDARD
DTSTART:20240804T131500Z
TZOFFSETFROM:+0300
TZOFFSETTO:+0300
END:STANDARD
END:VTIMEZONE
BEGIN:VTIMEZONE
TZID:UTC
BEGIN:STANDARD
DTSTART:20250724T001807Z
TZOFFSETFROM:+0000
TZOFFSETTO:+0000
END:STANDARD
END:VTIMEZONE
BEGIN:VEVENT
UID:1789-304
DTSTAMP:20260420T001807Z
SUMMARY:ΜΑΓΟΣ - \"Ο κήπος των θαυμάτων\"  Η άνοι
 ξη έρχεται και η Μαγεία φυσικά την ακολο
 υθεί !
LOCATION:
ORGANIZER;CN=Stelios:MAILTO:steliosagalos@gmail.com
DTSTART;TZID=Etc/GMT-3:20250501T131500
DTEND;TZID=Etc/GMT-3:20250501T140000
X-ALT-DESC;FMTTYPE=TEXT/HTML:
CATEGORIES:Πάρκο Κερατέας
URL;VALUE=URI:https://www.politistikoparko.com/mc-events/%ce%bc%ce%b1%ce%b3
 %ce%bf%cf%83-%ce%bf-%ce%ba%ce%ae%cf%80%ce%bf%cf%82-%cf%84%cf%89%ce%bd-%ce%
 b8%ce%b1%cf%85%ce%bc%ce%ac%cf%84%cf%89%ce%bd-%ce%b7-%ce%ac%ce%bd%ce%bf%ce%
 b9%ce%be%ce%b7-%ce%ad%cf%81-2/
METHOD:PUBLISH
END:VEVENT
END:VCALENDAR