BEGIN:VCALENDAR
VERSION:2.0
PRODID:spatie/icalendar-generator
DESCRIPTION:Events from Πολιτιστικό Πάρκο
X-WR-CALDESC:Events from Πολιτιστικό Πάρκο
REFRESH-INTERVAL;VALUE=DURATION:PT1440M
X-PUBLISHED-TTL:PT1440M
BEGIN:VTIMEZONE
TZID:Etc/GMT-3
BEGIN:STANDARD
DTSTART:20231205T143000Z
TZOFFSETFROM:+0300
TZOFFSETTO:+0300
END:STANDARD
END:VTIMEZONE
BEGIN:VTIMEZONE
TZID:UTC
BEGIN:STANDARD
DTSTART:20250724T075513Z
TZOFFSETFROM:+0000
TZOFFSETTO:+0000
END:STANDARD
END:VTIMEZONE
BEGIN:VEVENT
UID:1205-80
DTSTAMP:20260420T075513Z
SUMMARY:14:30 - 15:00  Παλαιοντολόγοι εν δράσει
LOCATION:Πολιτιστικό Πάρκο Κερατέας 2ο χλµ. Ν
 έας Λεωφ. Αθηνών - Σουνίου  (Ντάρδεζα)  Κερ
 ατέα 19001
ORGANIZER;CN=admin_politistiko:MAILTO:support@radicode.net
DTSTART;TZID=Etc/GMT-3:20240831T143000
DTEND;TZID=Etc/GMT-3:20240831T150000
X-ALT-DESC;FMTTYPE=TEXT/HTML:Παλαιοντολόγοι εν δράσει
  Γινόμαστε μικροί παλαιοντολόγοι\, παίρν
 ουμε τα πινέλα μας και ανακαλύπτουμε απο
 λιθώματα Δεινοσαύρων στο χώρο ανασκαφής
 .
CATEGORIES:Πάρκο Κερατέας
URL;VALUE=URI:https://www.politistikoparko.com/mc-events/1430-1500-%cf%80%c
 e%b1%ce%bb%ce%b1%ce%b9%ce%bf%ce%bd%cf%84%ce%bf%ce%bb%cf%8c%ce%b3%ce%bf%ce%
 b9-%ce%b5%ce%bd-%ce%b4%cf%81%ce%ac%cf%83%ce%b5%ce%b9/
METHOD:PUBLISH
END:VEVENT
END:VCALENDAR