BEGIN:VCALENDAR
VERSION:2.0
PRODID:spatie/icalendar-generator
DESCRIPTION:Events from Πολιτιστικό Πάρκο
X-WR-CALDESC:Events from Πολιτιστικό Πάρκο
REFRESH-INTERVAL;VALUE=DURATION:PT1440M
X-PUBLISHED-TTL:PT1440M
BEGIN:VTIMEZONE
TZID:Etc/GMT-3
BEGIN:STANDARD
DTSTART:20230928T120000Z
TZOFFSETFROM:+0300
TZOFFSETTO:+0300
END:STANDARD
END:VTIMEZONE
BEGIN:VTIMEZONE
TZID:UTC
BEGIN:STANDARD
DTSTART:20250724T080127Z
TZOFFSETFROM:+0000
TZOFFSETTO:+0000
END:STANDARD
END:VTIMEZONE
BEGIN:VEVENT
UID:1110-133
DTSTAMP:20260420T080127Z
SUMMARY:12:00 - 12:45 Η ΕΠΟΧΗ ΤΩΝ ΔΕΙΝΟΣΑΥΡΩΝ
LOCATION:Πολιτιστικό Πάρκο Κερατέας 2ο χλµ. Ν
 έας Λεωφ. Αθηνών - Σουνίου  (Ντάρδεζα)  Κερ
 ατέα 19001
ORGANIZER;CN=admin_politistiko:MAILTO:support@radicode.net
DTSTART;TZID=Etc/GMT-3:20240624T120000
DTEND;TZID=Etc/GMT-3:20240624T124500
X-ALT-DESC;FMTTYPE=TEXT/HTML:12:00 - 12:45 Η ΕΠΟΧΗ ΤΩΝ ΔΕΙΝΟ
 ΣΑΥΡΩΝ Ξενάγηση και εκπαιδευτικό πρόγρα
 μμα για μικρούς και μεγάλους που αφορά σ
 την ιστορία της γης\, τις κλιματολογικές 
 αλλαγές και την εποχή των Δεινοσαύρων.
CATEGORIES:Πάρκο Κερατέας
URL;VALUE=URI:https://www.politistikoparko.com/mc-events/1200-1245-%ce%b7-%
 ce%b5%cf%80%ce%bf%cf%87%ce%b7-%cf%84%cf%89%ce%bd-%ce%b4%ce%b5%ce%b9%ce%bd%
 ce%bf%cf%83%ce%b1%cf%85%cf%81%cf%89%ce%bd/
METHOD:PUBLISH
END:VEVENT
END:VCALENDAR