BEGIN:VCALENDAR
VERSION:2.0
PRODID:spatie/icalendar-generator
DESCRIPTION:Events from Πολιτιστικό Πάρκο
X-WR-CALDESC:Events from Πολιτιστικό Πάρκο
REFRESH-INTERVAL;VALUE=DURATION:PT1440M
X-PUBLISHED-TTL:PT1440M
BEGIN:VTIMEZONE
TZID:Etc/GMT-3
BEGIN:STANDARD
DTSTART:20230926T131500Z
TZOFFSETFROM:+0300
TZOFFSETTO:+0300
END:STANDARD
END:VTIMEZONE
BEGIN:VTIMEZONE
TZID:UTC
BEGIN:STANDARD
DTSTART:20250724T021418Z
TZOFFSETFROM:+0000
TZOFFSETTO:+0000
END:STANDARD
END:VTIMEZONE
BEGIN:VEVENT
UID:1092-207
DTSTAMP:20260420T021418Z
SUMMARY:13:15 - 14:00 Έλα να παίξουμε όπως τότε - Νε
 ροπαιχνιδίσματα / Δροσερά... Παιχνίδια!!!
LOCATION:Πολιτιστικό Πάρκο Κερατέας 2ο χλµ. Ν
 έας Λεωφ. Αθηνών - Σουνίου  (Ντάρδεζα)  Κερ
 ατέα 19001
ORGANIZER;CN=admin_politistiko:MAILTO:support@radicode.net
DTSTART;TZID=Etc/GMT-3:20240622T131500
DTEND;TZID=Etc/GMT-3:20240622T140000
X-ALT-DESC;FMTTYPE=TEXT/HTML:Έλα να παίξουμε όπως τότε
  - Νεροπαιχνιδίσματα / Δροσερά... Παιχνίδι
 α!!! Παίζουμε ατομικά και ομαδικά παιχνίδ
 ια που όχι μόνο θα επιστρατεύσουν το ομα
 δικό και συναγωνιστικό μας πνεύμα αλλά κ
 αι θα μας δροσίσουν απ' την ζέστη του Καλ
 οκαιριού!!!
CATEGORIES:Πάρκο Κερατέας
URL;VALUE=URI:https://www.politistikoparko.com/mc-events/1315-1400-%ce%ad%c
 e%bb%ce%b1-%ce%bd%ce%b1-%cf%80%ce%b1%ce%af%ce%be%ce%bf%cf%85%ce%bc%ce%b5-%
 cf%8c%cf%80%cf%89%cf%82-%cf%84%cf%8c%cf%84%ce%b5-%ce%bd%ce%b5%cf%81%ce%bf%
 cf%80%ce%b1%ce%b9%cf%87/
METHOD:PUBLISH
END:VEVENT
END:VCALENDAR