BEGIN:VCALENDAR
VERSION:2.0
PRODID:spatie/icalendar-generator
DESCRIPTION:Events from Πολιτιστικό Πάρκο
X-WR-CALDESC:Events from Πολιτιστικό Πάρκο
REFRESH-INTERVAL;VALUE=DURATION:PT1440M
X-PUBLISHED-TTL:PT1440M
BEGIN:VTIMEZONE
TZID:Etc/GMT-3
BEGIN:STANDARD
DTSTART:20230920T113000Z
TZOFFSETFROM:+0300
TZOFFSETTO:+0300
END:STANDARD
END:VTIMEZONE
BEGIN:VTIMEZONE
TZID:UTC
BEGIN:STANDARD
DTSTART:20250725T041016Z
TZOFFSETFROM:+0000
TZOFFSETTO:+0000
END:STANDARD
END:VTIMEZONE
BEGIN:VEVENT
UID:1060-201
DTSTAMP:20260421T041016Z
SUMMARY:ΈΛΑ ΝΑ ΠΑΊΞΟΥΕ ΟΠΩΣ ΤΟΤΕ – ΝΕΡΟΠΑΙΧΝ
 ΙΔΙΣΜΑΤΑ / Δροσερά... Παιχνίδια!!
LOCATION:
ORGANIZER;CN=Stelios:MAILTO:steliosagalos@gmail.com
DTSTART;TZID=Etc/GMT-3:20240616T113000
DTEND;TZID=Etc/GMT-3:20240616T121500
X-ALT-DESC;FMTTYPE=TEXT/HTML:ΈΛΑ ΝΑ ΠΑΊΞΟΥΕ ΟΠΩΣ ΤΟΤΕ 
 – ΝΕΡΟΠΑΙΧΝΙΔΙΣΜΑΤΑ / Δροσερά... Παιχνίδ
 ια!! Παίζουμε ατομικά και ομαδικά παιχνί
 δια που όχι μόνο θα επιστρατεύσουν το ομ
 αδικό και συναγωνιστικό μας πνεύμα αλλά 
 και θα μας δροσίσουν απ' την ζέστη του Κα
 λοκαιριού!!!
CATEGORIES:Πάρκο Κερατέας
URL;VALUE=URI:https://www.politistikoparko.com/mc-events/%ce%ad%ce%bb%ce%b1
 -%ce%bd%ce%b1-%cf%80%ce%b1%ce%af%ce%be%ce%bf%cf%85%ce%b5-%ce%bf%cf%80%cf%8
 9%cf%83-%cf%84%ce%bf%cf%84%ce%b5-%ce%bd%ce%b5%cf%81%ce%bf%cf%80%ce%b1%ce%b
 9%cf%87%ce%bd%ce%b9/
METHOD:PUBLISH
END:VEVENT
END:VCALENDAR